BEGIN:VCALENDAR
VERSION:2.0
PRODID:-//eventon.com NONSGML v1.0//EN
CALSCALE:GREGORIAN
METHOD:PUBLISH
BEGIN:VEVENT
UID:69e5ee4e0e349
DTSTAMP:20260420T091350Z
DTSTART:20221018T080000Z
DTEND:20221025T043000Z
LOCATION:Oficinas Amadei C/ Orense 16\,  8ºB
SUMMARY:18\,  20 Y 25 DE OCTUBRE CURSO FIDELIZACIÓN\,  CALIDAD Y GESTIÓN DE CLIENTES
DESCRIPTION:Nos complace informarte que los días 18\,  20 y 25 de octubre 
 de 2022\,  retomaremos los&nbsp;CURSOS PRESENCIALES&nbsp;en AMADEI denomina
 do “FIDELIZACIÓN\,  CALIDAD Y GESTIÓN DE CLIENTES” Para poder inscrib
 irte a este curso deberás completar el formulario que se acompaña\,  uno 
 por cada asistente\,  con un máximo de 5 personas por empresa.[..]\nhttps:
 //www.amadei.es/events/18-20-y-25-de-octubre-curso-fidelizacion-calidad-y-g
 estion-de-clientes/
URL:https://www.amadei.es/events/18-20-y-25-de-octubre-curso-fidelizacion-calidad-y-gestion-de-clientes/
END:VEVENT
END:VCALENDAR